BEGIN:VCALENDAR
VERSION:2.0
PRODID:-//Walkersville Southern Railroad &amp; Museum - ECPv6.14.2//NONSGML v1.0//EN
CALSCALE:GREGORIAN
METHOD:PUBLISH
X-WR-CALNAME:Walkersville Southern Railroad &amp; Museum
X-ORIGINAL-URL:https://wsrr.org
X-WR-CALDESC:Events for Walkersville Southern Railroad &amp; Museum
REFRESH-INTERVAL;VALUE=DURATION:PT1H
X-Robots-Tag:noindex
X-PUBLISHED-TTL:PT1H
BEGIN:VTIMEZONE
TZID:America/New_York
BEGIN:DAYLIGHT
TZOFFSETFROM:-0500
TZOFFSETTO:-0400
TZNAME:EDT
DTSTART:20250309T070000
END:DAYLIGHT
BEGIN:STANDARD
TZOFFSETFROM:-0400
TZOFFSETTO:-0500
TZNAME:EST
DTSTART:20251102T060000
END:STANDARD
END:VTIMEZONE
BEGIN:VEVENT
DTSTART;VALUE=DATE:20251206
DTEND;VALUE=DATE:20251207
DTSTAMP:20260420T044006
CREATED:20251201T181737Z
LAST-MODIFIED:20251201T181737Z
UID:760-1764979200-1765065599@wsrr.org
SUMMARY:Cowboy Christmas Tale
DESCRIPTION:Join us for a one-of-a-kind holiday adventure where jingle bells meet jingling spurs. Saddle up for a rootin’-tootin’ holiday celebration aboard the Cowboy Christmas Tale. Santa will visit with each family for photos\, and a gift for each child. Reservations Required. Caution: There will be sound of gunfire.
URL:https://wsrr.org/event/cowboy-christmas-tale/
END:VEVENT
END:VCALENDAR